BEGIN:VCALENDAR
VERSION:2.0
PRODID:-//Porthcawl Runners - ECPv6.3.1//NONSGML v1.0//EN
CALSCALE:GREGORIAN
METHOD:PUBLISH
X-WR-CALNAME:Porthcawl Runners
X-ORIGINAL-URL:http://porthcawlrunners.com
X-WR-CALDESC:Events for Porthcawl Runners
REFRESH-INTERVAL;VALUE=DURATION:PT1H
X-Robots-Tag:noindex
X-PUBLISHED-TTL:PT1H
BEGIN:VTIMEZONE
TZID:Europe/London
BEGIN:DAYLIGHT
TZOFFSETFROM:+0000
TZOFFSETTO:+0100
TZNAME:BST
DTSTART:20250330T010000
END:DAYLIGHT
BEGIN:STANDARD
TZOFFSETFROM:+0100
TZOFFSETTO:+0000
TZNAME:GMT
DTSTART:20251026T010000
END:STANDARD
END:VTIMEZONE
BEGIN:VEVENT
DTSTART;TZID=Europe/London:20250504T000000
DTEND;TZID=Europe/London:20250504T000000
DTSTAMP:20260422T011315
CREATED:20250108T151720Z
LAST-MODIFIED:20250108T151720Z
UID:1679-1746316800-1746316800@porthcawlrunners.com
SUMMARY:Cardiff 5K Race for Victory
DESCRIPTION:
URL:http://porthcawlrunners.com/event/cardiff-5k-race-for-victory-2/
CATEGORIES:5k
END:VEVENT
BEGIN:VEVENT
DTSTART;TZID=Europe/London:20250507T000000
DTEND;TZID=Europe/London:20250507T000000
DTSTAMP:20260422T011315
CREATED:20250108T151720Z
LAST-MODIFIED:20250108T151720Z
UID:1681-1746576000-1746576000@porthcawlrunners.com
SUMMARY:Paul Popham Swansea 5K Series (Race 1 of 3)
DESCRIPTION:
URL:http://porthcawlrunners.com/event/paul-popham-swansea-5k-series-race-1-of-3-3/
CATEGORIES:5k
END:VEVENT
BEGIN:VEVENT
DTSTART;TZID=Europe/London:20250521T000000
DTEND;TZID=Europe/London:20250521T000000
DTSTAMP:20260422T011315
CREATED:20250108T151736Z
LAST-MODIFIED:20250108T151736Z
UID:1686-1747785600-1747785600@porthcawlrunners.com
SUMMARY:SSAFA 5K Cardiff Bute Park (Race 1 of 3) 7:30pm
DESCRIPTION:
URL:http://porthcawlrunners.com/event/ssafa-5k-cardiff-bute-park-race-1-of-3-730pm/
CATEGORIES:5k
END:VEVENT
BEGIN:VEVENT
DTSTART;TZID=Europe/London:20250525T000000
DTEND;TZID=Europe/London:20250525T000000
DTSTAMP:20260422T011315
CREATED:20250108T151736Z
LAST-MODIFIED:20250108T151736Z
UID:1687-1748131200-1748131200@porthcawlrunners.com
SUMMARY:Swansea 5K (National Waterfront Museum Maritime Quarter)
DESCRIPTION:
URL:http://porthcawlrunners.com/event/swansea-5k-national-waterfront-museum-maritime-quarter/
CATEGORIES:5k
END:VEVENT
END:VCALENDAR