BEGIN:VCALENDAR
VERSION:2.0
PRODID:-//Porthcawl Runners - ECPv6.3.1//NONSGML v1.0//EN
CALSCALE:GREGORIAN
METHOD:PUBLISH
X-WR-CALNAME:Porthcawl Runners
X-ORIGINAL-URL:http://porthcawlrunners.com
X-WR-CALDESC:Events for Porthcawl Runners
REFRESH-INTERVAL;VALUE=DURATION:PT1H
X-Robots-Tag:noindex
X-PUBLISHED-TTL:PT1H
BEGIN:VTIMEZONE
TZID:Europe/London
BEGIN:DAYLIGHT
TZOFFSETFROM:+0000
TZOFFSETTO:+0100
TZNAME:BST
DTSTART:20250330T010000
END:DAYLIGHT
BEGIN:STANDARD
TZOFFSETFROM:+0100
TZOFFSETTO:+0000
TZNAME:GMT
DTSTART:20251026T010000
END:STANDARD
END:VTIMEZONE
BEGIN:VEVENT
DTSTART;TZID=Europe/London:20250607T000000
DTEND;TZID=Europe/London:20250607T000000
DTSTAMP:20260421T234622
CREATED:20250108T152139Z
LAST-MODIFIED:20250108T152139Z
UID:1696-1749254400-1749254400@porthcawlrunners.com
SUMMARY:Conquer Cardiff Bute Park 5K 10K Half Marathon
DESCRIPTION:
URL:http://porthcawlrunners.com/event/conquer-cardiff-bute-park-5k-10k-half-marathon/
CATEGORIES:10k,5k,Half Marathon
END:VEVENT
BEGIN:VEVENT
DTSTART;TZID=Europe/London:20250608T000000
DTEND;TZID=Europe/London:20250608T000000
DTSTAMP:20260421T234622
CREATED:20250108T152340Z
LAST-MODIFIED:20250108T152340Z
UID:1700-1749340800-1749340800@porthcawlrunners.com
SUMMARY:Cheltenham Race Course Running Festival 5K 10K Half Marathon
DESCRIPTION:
URL:http://porthcawlrunners.com/event/cheltenham-race-course-running-festival-5k-10k-half-marathon/
CATEGORIES:10k,5k,Half Marathon
END:VEVENT
BEGIN:VEVENT
DTSTART;TZID=Europe/London:20250611T000000
DTEND;TZID=Europe/London:20250611T000000
DTSTAMP:20260421T234622
CREATED:20250108T152340Z
LAST-MODIFIED:20250108T152340Z
UID:1702-1749600000-1749600000@porthcawlrunners.com
SUMMARY:Paul Popham Swansea 5K Series (Race 2 of 3)
DESCRIPTION:
URL:http://porthcawlrunners.com/event/paul-popham-swansea-5k-series-race-2-of-3-3/
CATEGORIES:5k
END:VEVENT
BEGIN:VEVENT
DTSTART;TZID=Europe/London:20250625T000000
DTEND;TZID=Europe/London:20250625T000000
DTSTAMP:20260421T234622
CREATED:20250108T152438Z
LAST-MODIFIED:20250108T152438Z
UID:1707-1750809600-1750809600@porthcawlrunners.com
SUMMARY:SSAFA 5K Cardiff Bute Park (Race 2 of 3) 7:30pm
DESCRIPTION:
URL:http://porthcawlrunners.com/event/ssafa-5k-cardiff-bute-park-race-2-of-3-730pm/
CATEGORIES:5k
END:VEVENT
BEGIN:VEVENT
DTSTART;TZID=Europe/London:20250629T000000
DTEND;TZID=Europe/London:20250629T000000
DTSTAMP:20260421T234622
CREATED:20250108T152438Z
LAST-MODIFIED:20250108T152438Z
UID:1708-1751155200-1751155200@porthcawlrunners.com
SUMMARY:Long Course Weekend Tenby 5K 10K Half Marathon Marathon
DESCRIPTION:
URL:http://porthcawlrunners.com/event/long-course-weekend-tenby-5k-10k-half-marathon-marathon/
CATEGORIES:10k,5k,Half Marathon,Marathon
END:VEVENT
END:VCALENDAR