BEGIN:VCALENDAR
VERSION:2.0
PRODID:-//Porthcawl Runners - ECPv6.3.1//NONSGML v1.0//EN
CALSCALE:GREGORIAN
METHOD:PUBLISH
X-ORIGINAL-URL:http://porthcawlrunners.com
X-WR-CALDESC:Events for Porthcawl Runners
REFRESH-INTERVAL;VALUE=DURATION:PT1H
X-Robots-Tag:noindex
X-PUBLISHED-TTL:PT1H
BEGIN:VTIMEZONE
TZID:Europe/London
BEGIN:DAYLIGHT
TZOFFSETFROM:+0000
TZOFFSETTO:+0100
TZNAME:BST
DTSTART:20250330T010000
END:DAYLIGHT
BEGIN:STANDARD
TZOFFSETFROM:+0100
TZOFFSETTO:+0000
TZNAME:GMT
DTSTART:20251026T010000
END:STANDARD
END:VTIMEZONE
BEGIN:VEVENT
DTSTART;TZID=Europe/London:20250410T000000
DTEND;TZID=Europe/London:20250410T000000
DTSTAMP:20260421T105757
CREATED:20250108T151549Z
LAST-MODIFIED:20250108T151549Z
UID:1667-1744243200-1744243200@porthcawlrunners.com
SUMMARY:Severn Bridge 5 Mile Twilight Race 7:30pm
DESCRIPTION:
URL:http://porthcawlrunners.com/event/severn-bridge-5-mile-twilight-race-730pm/
CATEGORIES:Other Races
END:VEVENT
BEGIN:VEVENT
DTSTART;TZID=Europe/London:20250420T000000
DTEND;TZID=Europe/London:20250420T000000
DTSTAMP:20260421T105757
CREATED:20250108T151605Z
LAST-MODIFIED:20250108T151605Z
UID:1672-1745107200-1745107200@porthcawlrunners.com
SUMMARY:Teifi 10 Mile Lampeter
DESCRIPTION:
URL:http://porthcawlrunners.com/event/teifi-10-mile-lampeter/
CATEGORIES:Other Races
END:VEVENT
BEGIN:VEVENT
DTSTART;TZID=Europe/London:20250427T000000
DTEND;TZID=Europe/London:20250427T000000
DTSTAMP:20260421T105757
CREATED:20250108T151605Z
LAST-MODIFIED:20250108T151605Z
UID:1673-1745712000-1745712000@porthcawlrunners.com
SUMMARY:Hospice of the Valleys 6 Mile (Parc Bryn Bach)
DESCRIPTION:
URL:http://porthcawlrunners.com/event/hospice-of-the-valleys-6-mile-parc-bryn-bach/
CATEGORIES:Other Races
END:VEVENT
END:VCALENDAR