BEGIN:VCALENDAR
VERSION:2.0
PRODID:-//Porthcawl Runners - ECPv6.3.1//NONSGML v1.0//EN
CALSCALE:GREGORIAN
METHOD:PUBLISH
X-WR-CALNAME:Porthcawl Runners
X-ORIGINAL-URL:https://porthcawlrunners.com
X-WR-CALDESC:Events for Porthcawl Runners
REFRESH-INTERVAL;VALUE=DURATION:PT1H
X-Robots-Tag:noindex
X-PUBLISHED-TTL:PT1H
BEGIN:VTIMEZONE
TZID:Europe/London
BEGIN:DAYLIGHT
TZOFFSETFROM:+0000
TZOFFSETTO:+0100
TZNAME:BST
DTSTART:20250330T010000
END:DAYLIGHT
BEGIN:STANDARD
TZOFFSETFROM:+0100
TZOFFSETTO:+0000
TZNAME:GMT
DTSTART:20251026T010000
END:STANDARD
END:VTIMEZONE
BEGIN:VEVENT
DTSTART;TZID=Europe/London:20250825T000000
DTEND;TZID=Europe/London:20250826T000000
DTSTAMP:20260421T233019
CREATED:20250108T153057Z
LAST-MODIFIED:20250108T153057Z
UID:1728-1756080000-1756166400@porthcawlrunners.com
SUMMARY:Pentath 2 Day Challenge Multi Event Marathon (Cardiff Running Events)
DESCRIPTION:
URL:https://porthcawlrunners.com/event/pentath-2-day-challenge-multi-event-marathon-cardiff-running-events/
CATEGORIES:Dua-Tri
END:VEVENT
END:VCALENDAR