BEGIN:VCALENDAR
VERSION:2.0
PRODID:-//Porthcawl Runners - ECPv6.3.1//NONSGML v1.0//EN
CALSCALE:GREGORIAN
METHOD:PUBLISH
X-ORIGINAL-URL:https://porthcawlrunners.com
X-WR-CALDESC:Events for Porthcawl Runners
REFRESH-INTERVAL;VALUE=DURATION:PT1H
X-Robots-Tag:noindex
X-PUBLISHED-TTL:PT1H
BEGIN:VTIMEZONE
TZID:Europe/London
BEGIN:DAYLIGHT
TZOFFSETFROM:+0000
TZOFFSETTO:+0100
TZNAME:BST
DTSTART:20250330T010000
END:DAYLIGHT
BEGIN:STANDARD
TZOFFSETFROM:+0100
TZOFFSETTO:+0000
TZNAME:GMT
DTSTART:20251026T010000
END:STANDARD
END:VTIMEZONE
BEGIN:VEVENT
DTSTART;TZID=Europe/London:20250125T000000
DTEND;TZID=Europe/London:20250125T000000
DTSTAMP:20260421T183743
CREATED:20250108T151019Z
LAST-MODIFIED:20250108T151019Z
UID:1620-1737763200-1737763200@porthcawlrunners.com
SUMMARY:Turtle Run 7hr Time trial 5K 10K Half/Full Marathon 50K) Dare Valley
DESCRIPTION:
URL:https://porthcawlrunners.com/event/turtle-run-7hr-time-trial-5k-10k-half-full-marathon-50k-dare-valley/
CATEGORIES:10k,5k,Half Marathon,Marathon,Ultra
END:VEVENT
END:VCALENDAR