BEGIN:VCALENDAR
VERSION:2.0
PRODID:-//Porthcawl Runners - ECPv6.3.1//NONSGML v1.0//EN
CALSCALE:GREGORIAN
METHOD:PUBLISH
X-WR-CALNAME:Porthcawl Runners
X-ORIGINAL-URL:https://porthcawlrunners.com
X-WR-CALDESC:Events for Porthcawl Runners
REFRESH-INTERVAL;VALUE=DURATION:PT1H
X-Robots-Tag:noindex
X-PUBLISHED-TTL:PT1H
BEGIN:VTIMEZONE
TZID:Europe/London
BEGIN:DAYLIGHT
TZOFFSETFROM:+0000
TZOFFSETTO:+0100
TZNAME:BST
DTSTART:20250330T010000
END:DAYLIGHT
BEGIN:STANDARD
TZOFFSETFROM:+0100
TZOFFSETTO:+0000
TZNAME:GMT
DTSTART:20251026T010000
END:STANDARD
END:VTIMEZONE
BEGIN:VEVENT
DTSTART;TZID=Europe/London:20250406T000000
DTEND;TZID=Europe/London:20250406T000000
DTSTAMP:20260421T140259
CREATED:20250108T151549Z
LAST-MODIFIED:20250108T151549Z
UID:1666-1743897600-1743897600@porthcawlrunners.com
SUMMARY:Brighton Marathon
DESCRIPTION:
URL:https://porthcawlrunners.com/event/brighton-marathon/
CATEGORIES:Marathon
END:VEVENT
BEGIN:VEVENT
DTSTART;TZID=Europe/London:20250412T000000
DTEND;TZID=Europe/London:20250412T000000
DTSTAMP:20260421T140259
CREATED:20250108T151549Z
LAST-MODIFIED:20250108T151549Z
UID:1668-1744416000-1744416000@porthcawlrunners.com
SUMMARY:TEC Wye Valley Ultra Marathon Half 12.5K
DESCRIPTION:
URL:https://porthcawlrunners.com/event/tec-wye-valley-ultra-marathon-half-12-5k/
CATEGORIES:Half Marathon,Marathon,Ultra
END:VEVENT
BEGIN:VEVENT
DTSTART;TZID=Europe/London:20250413T000000
DTEND;TZID=Europe/London:20250413T000000
DTSTAMP:20260421T140259
CREATED:20250108T151605Z
LAST-MODIFIED:20250108T151605Z
UID:1669-1744502400-1744502400@porthcawlrunners.com
SUMMARY:Newport Marathon Half Marathon & 10K
DESCRIPTION:
URL:https://porthcawlrunners.com/event/newport-marathon-half-marathon-10k/
CATEGORIES:10k,Half Marathon,Marathon,Run4Wales
END:VEVENT
BEGIN:VEVENT
DTSTART;TZID=Europe/London:20250427T000000
DTEND;TZID=Europe/London:20250427T000000
DTSTAMP:20260421T140259
CREATED:20250108T151705Z
LAST-MODIFIED:20250108T151705Z
UID:1676-1745712000-1745712000@porthcawlrunners.com
SUMMARY:Shakespeare Marathon Half Marathon
DESCRIPTION:
URL:https://porthcawlrunners.com/event/shakespeare-marathon-half-marathon/
CATEGORIES:Half Marathon,Marathon
END:VEVENT
BEGIN:VEVENT
DTSTART;TZID=Europe/London:20250427T000000
DTEND;TZID=Europe/London:20250427T000000
DTSTAMP:20260421T140259
CREATED:20250108T151705Z
LAST-MODIFIED:20250108T151705Z
UID:1674-1745712000-1745712000@porthcawlrunners.com
SUMMARY:TCS London Marathon
DESCRIPTION:
URL:https://porthcawlrunners.com/event/tcs-london-marathon/
CATEGORIES:Marathon
END:VEVENT
BEGIN:VEVENT
DTSTART;TZID=Europe/London:20250427T000000
DTEND;TZID=Europe/London:20250427T000000
DTSTAMP:20260421T140259
CREATED:20250108T151705Z
LAST-MODIFIED:20250108T151705Z
UID:1678-1745712000-1745712000@porthcawlrunners.com
SUMMARY:Madrid Marathon
DESCRIPTION:
URL:https://porthcawlrunners.com/event/madrid-marathon/
CATEGORIES:Marathon
END:VEVENT
BEGIN:VEVENT
DTSTART;TZID=Europe/London:20250427T000000
DTEND;TZID=Europe/London:20250427T000000
DTSTAMP:20260421T140259
CREATED:20250108T151705Z
LAST-MODIFIED:20250108T151705Z
UID:1675-1745712000-1745712000@porthcawlrunners.com
SUMMARY:Manchester Marathon
DESCRIPTION:
URL:https://porthcawlrunners.com/event/manchester-marathon/
CATEGORIES:Marathon
END:VEVENT
END:VCALENDAR