BEGIN:VCALENDAR
VERSION:2.0
PRODID:-//Porthcawl Runners - ECPv6.3.1//NONSGML v1.0//EN
CALSCALE:GREGORIAN
METHOD:PUBLISH
X-ORIGINAL-URL:https://porthcawlrunners.com
X-WR-CALDESC:Events for Porthcawl Runners
REFRESH-INTERVAL;VALUE=DURATION:PT1H
X-Robots-Tag:noindex
X-PUBLISHED-TTL:PT1H
BEGIN:VTIMEZONE
TZID:Europe/London
BEGIN:DAYLIGHT
TZOFFSETFROM:+0000
TZOFFSETTO:+0100
TZNAME:BST
DTSTART:20250330T010000
END:DAYLIGHT
BEGIN:STANDARD
TZOFFSETFROM:+0100
TZOFFSETTO:+0000
TZNAME:GMT
DTSTART:20251026T010000
END:STANDARD
END:VTIMEZONE
BEGIN:VEVENT
DTSTART;TZID=Europe/London:20250510T000000
DTEND;TZID=Europe/London:20250510T000000
DTSTAMP:20260421T124851
CREATED:20250108T151720Z
LAST-MODIFIED:20250108T151720Z
UID:1682-1746835200-1746835200@porthcawlrunners.com
SUMMARY:TEC Brecon Beacons Ultra Marathon Half 10K
DESCRIPTION:
URL:https://porthcawlrunners.com/event/tec-brecon-beacons-ultra-marathon-half-10k/
CATEGORIES:10k,Half Marathon,Marathon,Ultra
END:VEVENT
BEGIN:VEVENT
DTSTART;TZID=Europe/London:20250511T000000
DTEND;TZID=Europe/London:20250511T000000
DTSTAMP:20260421T124851
CREATED:20250108T151736Z
LAST-MODIFIED:20250108T151736Z
UID:1685-1746921600-1746921600@porthcawlrunners.com
SUMMARY:Leeds Rob Burrows Marathon
DESCRIPTION:
URL:https://porthcawlrunners.com/event/leeds-rob-burrows-marathon-3/
CATEGORIES:Marathon
END:VEVENT
BEGIN:VEVENT
DTSTART;TZID=Europe/London:20250525T000000
DTEND;TZID=Europe/London:20250525T000000
DTSTAMP:20260421T124851
CREATED:20250108T151736Z
LAST-MODIFIED:20250108T151736Z
UID:1688-1748131200-1748131200@porthcawlrunners.com
SUMMARY:Edinburgh Marathon Festival
DESCRIPTION:
URL:https://porthcawlrunners.com/event/edinburgh-marathon-festival/
CATEGORIES:Marathon
END:VEVENT
END:VCALENDAR