BEGIN:VCALENDAR
VERSION:2.0
PRODID:-//Porthcawl Runners - ECPv6.3.1//NONSGML v1.0//EN
CALSCALE:GREGORIAN
METHOD:PUBLISH
X-ORIGINAL-URL:https://porthcawlrunners.com
X-WR-CALDESC:Events for Porthcawl Runners
REFRESH-INTERVAL;VALUE=DURATION:PT1H
X-Robots-Tag:noindex
X-PUBLISHED-TTL:PT1H
BEGIN:VTIMEZONE
TZID:Europe/London
BEGIN:DAYLIGHT
TZOFFSETFROM:+0000
TZOFFSETTO:+0100
TZNAME:BST
DTSTART:20250330T010000
END:DAYLIGHT
BEGIN:STANDARD
TZOFFSETFROM:+0100
TZOFFSETTO:+0000
TZNAME:GMT
DTSTART:20251026T010000
END:STANDARD
END:VTIMEZONE
BEGIN:VEVENT
DTSTART;TZID=Europe/London:20250712T000000
DTEND;TZID=Europe/London:20250712T000000
DTSTAMP:20260421T102452
CREATED:20250108T152453Z
LAST-MODIFIED:20250108T152453Z
UID:1713-1752278400-1752278400@porthcawlrunners.com
SUMMARY:Snowdonia Trail 10K Half Marathon Marathon Ultra
DESCRIPTION:
URL:https://porthcawlrunners.com/event/snowdonia-trail-10k-half-marathon-marathon-ultra/
CATEGORIES:10k,Half Marathon,Marathon,Ultra
END:VEVENT
END:VCALENDAR